BEGIN:VCALENDAR
VERSION:2.0
PRODID:-//hacksw/handcal//NONSGML v1.0//EN
CALSCALE:GREGORIAN
X-WR-TIMEZONE:Europe/Paris
BEGIN:VEVENT
LOCATION:
SUMMARY:Hinter den Kulissen @SRF
DESCRIPTION:Im KOM-TALK 2025 hat uns Kathrin Winzenried von ihrem Arbeitsalltag beim SRF erzählt. Jetzt reisen wir
mit ihr nach Zürich und erhalten einen exklusiven Einblick in die Studios im Leutschenbach – im Jahr der Halbierungsinitiative.
DTSTART:20261111T173000Z
DTEND:20261111T193000Z
DTSTAMP:20260424T095821Z
UID:69eb3ebda1c90
END:VEVENT
END:VCALENDAR